BEGIN:VCALENDAR
VERSION:2.0
PRODID:-//Core LNGas hive - ECPv4.1.2//NONSGML v1.0//EN
CALSCALE:GREGORIAN
METHOD:PUBLISH
X-WR-CALNAME:Core LNGas hive
X-ORIGINAL-URL:http://corelngashive.eu/es/
X-WR-CALDESC:Events for Core LNGas hive
BEGIN:VEVENT
DTSTART;VALUE=DATE:20170307
DTEND;VALUE=DATE:20170309
DTSTAMP:20260423T180748
CREATED:20170203
LAST-MODIFIED:20190503
UID:5707-1488852000-1489024799@corelngashive.eu
SUMMARY:V Congreso de Gasnam
DESCRIPTION:V Congreso de Gasnam\nEl gas natural como sinÃ³nimo de movilidad sostenible y combustible mÃ¡s econÃ³mico para el transporte por carretera\, ferrocarril y marÃ­timo. El V Congreso de Gasnam pretende ser la cita ineludible para todas las compaÃ±Ã­as del sector involucradas en la larga cadena del gas natural como combustible en la movilidad\, desde las productoras hasta los consumidores.\nAdemÃ¡s\, en este congreso se tratarÃ¡ el importante aspecto de la calidad del aire en las ciudades. Se harÃ¡ de la mano de los mejores y mÃ¡s reconocidos expertos de cada sector.\n 
URL:http://corelngashive.eu/es/events/vth-gasnam-congress/?lang=es/feed/feed/feed/feed/feed/
LOCATION:Ciudad de la Imagen\, Edgar Neville\, Madrid\, EspaÃ±a
CATEGORIES:Eventos
END:VEVENT
END:VCALENDAR