BEGIN:VCALENDAR
VERSION:2.0
PRODID:-//Core LNGas hive - ECPv4.1.2//NONSGML v1.0//EN
CALSCALE:GREGORIAN
METHOD:PUBLISH
X-WR-CALNAME:Core LNGas hive
X-ORIGINAL-URL:http://corelngashive.eu/es/
X-WR-CALDESC:Events for Core LNGas hive
BEGIN:VEVENT
DTSTART;VALUE=DATE:20170220
DTEND;VALUE=DATE:20170221
DTSTAMP:20260423T194748
CREATED:20161128
LAST-MODIFIED:20190506
UID:5543-1487556000-1487642399@corelngashive.eu
SUMMARY:V Foro Internacional: "Retos y desafÃ­os de los puertos y el transporte marÃ­timo en la UniÃ³n Europea"
DESCRIPTION:"Retos y desafÃ­os de los puertos y el transporte marÃ­timo en la UniÃ³n Europea"\nMÃ¡s informaciÃ³n\n\n \n\n
URL:http://corelngashive.eu/es/events/v-international-forum-challenges-of-ports-and-maritime-transport-in-the-eu/?lang=es/feed/feed/feed/feed/feed/
LOCATION:Tenerife\, EspaÃ±a
CATEGORIES:Eventos
END:VEVENT
END:VCALENDAR