BEGIN:VCALENDAR
VERSION:2.0
PRODID:-//Core LNGas hive - ECPv4.1.2//NONSGML v1.0//EN
CALSCALE:GREGORIAN
METHOD:PUBLISH
X-WR-CALNAME:Core LNGas hive
X-ORIGINAL-URL:http://corelngashive.eu/es/
X-WR-CALDESC:Events for Core LNGas hive
BEGIN:VEVENT
DTSTART;VALUE=DATE:20161215
DTEND;VALUE=DATE:20161216
DTSTAMP:20260423T224544
CREATED:20161128
LAST-MODIFIED:20161207
UID:5535-1481767200-1481853599@corelngashive.eu
SUMMARY:PUERTO DE GIJÃ“N: EL FUTURO DEL TRANSPORTE SOSTENIBLE EN EUROPA: Caso EspaÃ±a
DESCRIPTION:PUERTO DE GIJÃ“N:Â EL FUTURO DEL TRANSPORTE SOSTENIBLE EN EUROPA: Caso EspaÃ±a\n\nPara participar: bgalan@puertodegijon.es\n\n\n\n 
URL:http://corelngashive.eu/es/events/puerto-de-gijon-the-future-of-sustainable-transport-in-europe-the-spanish-case/?lang=es/feed/feed/feed/feed/feed/feed/
LOCATION:GijÃ³n\, EspaÃ±a
CATEGORIES:Eventos
END:VEVENT
END:VCALENDAR