BEGIN:VCALENDAR
VERSION:2.0
PRODID:-//Core LNGas hive - ECPv4.1.2//NONSGML v1.0//EN
CALSCALE:GREGORIAN
METHOD:PUBLISH
X-WR-CALNAME:Core LNGas hive
X-ORIGINAL-URL:http://corelngashive.eu/es/
X-WR-CALDESC:Events for Core LNGas hive
BEGIN:VEVENT
DTSTART;TZID=UTC+2:20160607T110000
DTEND;TZID=UTC+2:20160607T190000
DTSTAMP:20260425T101715
CREATED:20160602T070856
LAST-MODIFIED:20190503T171857
UID:5138-1465297200-1465326000@corelngashive.eu
SUMMARY:Nuevas oportunidades del gas natural
DESCRIPTION:Jornada sobre el uso del gas natural en el transporte\n\n\n\n \n\n 
URL:http://corelngashive.eu/es/events/nuevas-oportunidades-del-gas-natural/?lang=es/feed/feed/feed/feed/feed/feed/feed/feed/feed/feed/feed/feed/feed/feed/feed/feed/
LOCATION:Universidad PolitÃ©cnica de Cartagena\, SalÃ³n de actos\, Cartagena\, EspaÃ±a
CATEGORIES:Eventos
ORGANIZER;CN="GASNAM":MAILTO:secretaria@gasnam.es
END:VEVENT
END:VCALENDAR