BEGIN:VCALENDAR
VERSION:2.0
PRODID:-//Core LNGas hive - ECPv4.1.2//NONSGML v1.0//EN
CALSCALE:GREGORIAN
METHOD:PUBLISH
X-WR-CALNAME:Core LNGas hive
X-ORIGINAL-URL:http://corelngashive.eu/es/
X-WR-CALDESC:Events for Core LNGas hive
BEGIN:VEVENT
DTSTART;VALUE=DATE:20170130
DTEND;VALUE=DATE:20170202
DTSTAMP:20260423T233554
CREATED:20161215
LAST-MODIFIED:20170126
UID:5623-1485741600-1486000799@corelngashive.eu
SUMMARY:LNG Bunkering Summit
DESCRIPTION:LNG Bunkering Summit\n\n \n\n \n\n 
URL:http://corelngashive.eu/es/events/lng-bunkering-summit/?lang=es/feed/feed/feed/feed/feed/feed/feed/feed/
LOCATION:Holanda
CATEGORIES:Eventos
END:VEVENT
END:VCALENDAR