BEGIN:VCALENDAR
VERSION:2.0
PRODID:-//Core LNGas hive - ECPv4.1.2//NONSGML v1.0//EN
CALSCALE:GREGORIAN
METHOD:PUBLISH
X-WR-CALNAME:Core LNGas hive
X-ORIGINAL-URL:http://corelngashive.eu/es/
X-WR-CALDESC:Events for Core LNGas hive
BEGIN:VEVENT
DTSTART;VALUE=DATE:20170510
DTEND;VALUE=DATE:20170512
DTSTAMP:20260423T103836
CREATED:20170207
LAST-MODIFIED:20190503
UID:5715-1494381600-1494554399@corelngashive.eu
SUMMARY:Conferencia Internacional de GNL para el Transporte y la Industria
DESCRIPTION:Conferencia Internacional de GNL para el Transporte y la Industria\n\nSMALL SCALE \n\n\n\n\n\nStrategias & Tecnologías en el Mediterráneo\n\n\n\n\n\nlink
URL:http://corelngashive.eu/es/events/international-conference-on-lng-for-transports-and-industries/?lang=es/feed/feed/
LOCATION:Napoles\, Italia
CATEGORIES:Eventos
END:VEVENT
END:VCALENDAR