BEGIN:VCALENDAR
VERSION:2.0
PRODID:-//Core LNGas hive - ECPv4.1.2//NONSGML v1.0//EN
CALSCALE:GREGORIAN
METHOD:PUBLISH
X-WR-CALNAME:Core LNGas hive
X-ORIGINAL-URL:http://corelngashive.eu/es/
X-WR-CALDESC:Events for Core LNGas hive
BEGIN:VEVENT
DTSTART;VALUE=DATE:20170327
DTEND;VALUE=DATE:20170401
DTSTAMP:20260423T150904
CREATED:20161110
LAST-MODIFIED:20190503
UID:5472-1490580000-1491011999@corelngashive.eu
SUMMARY:World Maritime week: Congreso Portuario Futureport
DESCRIPTION:Web de la World Maritime Week\n\nLink a Futureport\n\n \n\n 
URL:http://corelngashive.eu/es/events/congreso-portuario-futureport/?lang=es/feed/feed/feed/feed/feed/
LOCATION:Ronda de Azkue\, 1\, Barakaldo\, Bilbao\, 48902\, EspaÃ±a
CATEGORIES:Eventos
END:VEVENT
END:VCALENDAR