BEGIN:VCALENDAR
VERSION:2.0
PRODID:-//Core LNGas hive - ECPv4.1.2//NONSGML v1.0//EN
CALSCALE:GREGORIAN
METHOD:PUBLISH
X-WR-CALNAME:Core LNGas hive
X-ORIGINAL-URL:http://corelngashive.eu/es/
X-WR-CALDESC:Events for Core LNGas hive
BEGIN:VEVENT
DTSTART;VALUE=DATE:20171113
DTEND;VALUE=DATE:20171115
DTSTAMP:20260421T102216
CREATED:20170720
LAST-MODIFIED:20170720
UID:7376-1510531200-1510790399@corelngashive.eu
SUMMARY:8 Conferencia sobre los buques a gas
DESCRIPTION:8 Conferencia sobre los buques a gas\n\nEn asociaciÃ³n con DNV GL\, y con el tema COMBUSTIENDO EL FUTURO DE LA INDUSTRIA DEL TRANSPORTE.\nLa Conferencia de este aÃ±o se llevarÃ¡ a cabo a bordo del Viking Mariella\n\nLink con el programa\n\n 
URL:http://corelngashive.eu/es/events/8-conferencia-los-buques-gas/
LOCATION:Helsinki\, Finlandia
CATEGORIES:Eventos
END:VEVENT
END:VCALENDAR