BEGIN:VCALENDAR
VERSION:2.0
PRODID:-//Core LNGas hive - ECPv4.1.2//NONSGML v1.0//EN
CALSCALE:GREGORIAN
METHOD:PUBLISH
X-WR-CALNAME:Core LNGas hive
X-ORIGINAL-URL:http://corelngashive.eu/es/
X-WR-CALDESC:Events for Core LNGas hive
BEGIN:VEVENT
DTSTART;VALUE=DATE:20161116
DTEND;VALUE=DATE:20161118
DTSTAMP:20260424T070512
CREATED:20160927
LAST-MODIFIED:20161018
UID:5393-1479261600-1479434399@corelngashive.eu
SUMMARY:5 Foro Anual de Small Scale GNL
DESCRIPTION:5 Foro Anual de Small Scale GNL\n\n\nMÃ¡s info:Â baen91_p_info\n\nhttps://fleming.events/en/events/landing-page/oil-gas/small-scale-lng-forum\n\n 
URL:http://corelngashive.eu/es/events/5-foro-anual-de-small-scale-gnl/?lang=es/feed/feed/feed/feed/feed/feed/feed/feed/feed/
LOCATION:Holanda
CATEGORIES:Eventos
END:VEVENT
END:VCALENDAR