BEGIN:VCALENDAR
VERSION:2.0
PRODID:-//Core LNGas hive - ECPv4.1.2//NONSGML v1.0//EN
CALSCALE:GREGORIAN
METHOD:PUBLISH
X-WR-CALNAME:Core LNGas hive
X-ORIGINAL-URL:http://corelngashive.eu/es/
X-WR-CALDESC:Events for Core LNGas hive
BEGIN:VEVENT
DTSTART;VALUE=DATE:20170424
DTEND;VALUE=DATE:20170426
DTSTAMP:20260423T120623
CREATED:20160927
LAST-MODIFIED:20190503
UID:5382-1492999200-1493171999@corelngashive.eu
SUMMARY:2 Cumbre Anual Internacional  de GNL
DESCRIPTION:2 Cumbre Anual Internacional de GNL\n\n24 y 25 Abril\n\nBarcelona\n\nMas info:\n\nhttp://lngsummit.org\n\n 
URL:http://corelngashive.eu/es/events/2-cumbre-anual-internacional-de-gnl/?lang=es/feed/feed/
LOCATION:Barcelona\, EspaÃ±a
CATEGORIES:Eventos
END:VEVENT
END:VCALENDAR