BEGIN:VCALENDAR
VERSION:2.0
PRODID:-//Core LNGas hive - ECPv4.1.2//NONSGML v1.0//EN
CALSCALE:GREGORIAN
METHOD:PUBLISH
X-WR-CALNAME:Core LNGas hive
X-ORIGINAL-URL:http://corelngashive.eu/es/
X-WR-CALDESC:Events for Core LNGas hive
BEGIN:VEVENT
DTSTART;VALUE=DATE:20171120
DTEND;VALUE=DATE:20171121
DTSTAMP:20260422T230007
CREATED:20171030
LAST-MODIFIED:20171030
UID:8035-1511136000-1511308799@corelngashive.eu
SUMMARY:1st Conference of the “Ad-Hoc” Industrial Working Group for the Development of MoS
DESCRIPTION:Conferencia sobre las Autopistas del Mar (MOS).\n\n
URL:http://corelngashive.eu/es/events/1st-conference-of-the-ad-hoc-industrial-working-group-for-the-development-of-mos/?lang=es/feed/feed/feed/feed/feed/feed/feed/feed/feed/feed/feed/feed/feed/feed/feed/
LOCATION:1ª planta\, Edif. Este\, Moll de Barcelona\, s/n\, \, Barcelona\, Barcelona\, 08039 \, España
CATEGORIES:Eventos
END:VEVENT
END:VCALENDAR