BEGIN:VCALENDAR
VERSION:2.0
PRODID:-//Core LNGas hive - ECPv4.1.2//NONSGML v1.0//EN
CALSCALE:GREGORIAN
METHOD:PUBLISH
X-WR-CALNAME:Core LNGas hive
X-ORIGINAL-URL:http://corelngashive.eu/es/
X-WR-CALDESC:Events for Core LNGas hive
BEGIN:VEVENT
DTSTART;TZID=UTC+2:20161212T020000
DTEND;TZID=UTC+2:20161216T015900
DTSTAMP:20260424T000613
CREATED:20160915T123757
LAST-MODIFIED:20160915T123757
UID:5351-1481508000-1481853540@corelngashive.eu
SUMMARY:17th World LNG Summit
DESCRIPTION:The CWC World LNG Summit & Awards Evening pretende ser el encuentro de final de año de la industria del GNL. Se espera que sea un encuentro de más de 500 profesionales del GNL que puedan discutir bajo un mismo techo las cuestiones que preocupan a la industria del GNL.\n\nMas info:\n\nhttp://world.cwclng.com/
URL:http://corelngashive.eu/es/events/17th-world-lng-summit/?lang=es/feed/feed/feed/
LOCATION:Barcelona\, España
CATEGORIES:Eventos
END:VEVENT
END:VCALENDAR