BEGIN:VCALENDAR
VERSION:2.0
PRODID:-//Core LNGas hive - ECPv4.1.2//NONSGML v1.0//EN
CALSCALE:GREGORIAN
METHOD:PUBLISH
X-WR-CALNAME:Core LNGas hive
X-ORIGINAL-URL:http://corelngashive.eu/en/
X-WR-CALDESC:Events for Core LNGas hive
BEGIN:VEVENT
DTSTART;VALUE=DATE:20180411
DTEND;VALUE=DATE:20180412
DTSTAMP:20260422T015918
CREATED:20180226
LAST-MODIFIED:20180226
UID:8271-1523404800-1523577599@corelngashive.eu
SUMMARY:VI Gasnam Congress
DESCRIPTION:Iberian association for compressed natural gas (CNG) and liquefied natural gas (LNG) as alternative fuels for road\, railway and maritime transportation.
URL:http://corelngashive.eu/en/events/vi-gasnam-congress/?lang=es/feed/feed/feed/feed/feed/
LOCATION:Madrid\, España
CATEGORIES:Events
ORGANIZER;CN="GASNAM":MAILTO:secretaria@gasnam.es
END:VEVENT
END:VCALENDAR