BEGIN:VCALENDAR
VERSION:2.0
PRODID:-//Core LNGas hive - ECPv4.1.2//NONSGML v1.0//EN
CALSCALE:GREGORIAN
METHOD:PUBLISH
X-WR-CALNAME:Core LNGas hive
X-ORIGINAL-URL:http://corelngashive.eu/en/
X-WR-CALDESC:Events for Core LNGas hive
BEGIN:VEVENT
DTSTART;VALUE=DATE:20180514
DTEND;VALUE=DATE:20180514
DTSTAMP:20260421T225902
CREATED:20180417
LAST-MODIFIED:20180430
UID:8608-1526256000-1526342399@corelngashive.eu
SUMMARY:Smart ports: Gestión energética en los puertos andaluces
DESCRIPTION:Link al Programa 
URL:http://corelngashive.eu/en/events/smart-ports-gestion-energetica-los-puertos-andaluces/?lang=es/feed/feed/feed/feed/feed/feed/feed/feed/
LOCATION:Muelle Canovas. s/n\, Málaga\, Málaga\, 29001\, España
CATEGORIES:Events
END:VEVENT
END:VCALENDAR