BEGIN:VCALENDAR
VERSION:2.0
PRODID:-//Core LNGas hive - ECPv4.1.2//NONSGML v1.0//EN
CALSCALE:GREGORIAN
METHOD:PUBLISH
X-WR-CALNAME:Core LNGas hive
X-ORIGINAL-URL:http://corelngashive.eu/en/
X-WR-CALDESC:Events for Core LNGas hive
BEGIN:VEVENT
DTSTART;VALUE=DATE:20161208
DTEND;VALUE=DATE:20161209
DTSTAMP:20260424T000626
CREATED:20161110
LAST-MODIFIED:20190506
UID:5467-1481162400-1481248799@corelngashive.eu
SUMMARY:Poseidon Med II Stakeholders meeting
DESCRIPTION:Poseidon Med II Stakeholders meeting\n\nAgenda
URL:http://corelngashive.eu/en/events/poseidon-med-ii-stakeholders-meeting/?lang=es/feed/feed/feed/
LOCATION:Iroon Politechniou 32\, Pireo\, Grecia
CATEGORIES:Events
END:VEVENT
END:VCALENDAR