BEGIN:VCALENDAR
VERSION:2.0
PRODID:-//Core LNGas hive - ECPv4.1.2//NONSGML v1.0//EN
CALSCALE:GREGORIAN
METHOD:PUBLISH
X-WR-CALNAME:Core LNGas hive
X-ORIGINAL-URL:http://corelngashive.eu/en/
X-WR-CALDESC:Events for Core LNGas hive
BEGIN:VEVENT
DTSTART;TZID=UTC+2:20160607T110000
DTEND;TZID=UTC+2:20160607T190000
DTSTAMP:20260425T131434
CREATED:20160602T065622
LAST-MODIFIED:20160602T071611
UID:5128-1465297200-1465326000@corelngashive.eu
SUMMARY:New opportunities for natural gas
DESCRIPTION:Event on the use of natural gas for transport\n\n \n\n\n\n 
URL:http://corelngashive.eu/en/events/new-opportunities-for-natural-gas/?lang=es/feed/feed/feed/feed/feed/feed/feed/feed/feed/feed/feed/feed/feed/feed/feed/feed/feed/feed/
LOCATION:Universidad PolitÃ©cnica de Cartagena\, SalÃ³n de actos\, Cartagena\, EspaÃ±a
ORGANIZER;CN="GASNAM":MAILTO:secretaria@gasnam.es
END:VEVENT
END:VCALENDAR