BEGIN:VCALENDAR
VERSION:2.0
PRODID:-//Core LNGas hive - ECPv4.1.2//NONSGML v1.0//EN
CALSCALE:GREGORIAN
METHOD:PUBLISH
X-WR-CALNAME:Core LNGas hive
X-ORIGINAL-URL:http://corelngashive.eu/en/
X-WR-CALDESC:Events for Core LNGas hive
BEGIN:VEVENT
DTSTART;VALUE=DATE:20161123
DTEND;VALUE=DATE:20161125
DTSTAMP:20260424T043432
CREATED:20160711
LAST-MODIFIED:20190506
UID:5257-1479866400-1480039199@corelngashive.eu
SUMMARY:LNG Europe + Conference
DESCRIPTION:LNG Europe + Conference\n\nLNG Europe+ Conference is the place to be for all the shakers and movers from the LNG industry. Networking is vital for every business and this event will give you the chance to get up to speed on  your old acquaintances’ activities  and forge new\, exciting contacts. The aim is to examine both large and small scale LNG projects and try to predict the future of the LNG market.
URL:http://corelngashive.eu/en/events/lng-europe-conference/?lang=es/feed/feed/
CATEGORIES:Events
END:VEVENT
END:VCALENDAR