BEGIN:VCALENDAR
VERSION:2.0
PRODID:-//Core LNGas hive - ECPv4.1.2//NONSGML v1.0//EN
CALSCALE:GREGORIAN
METHOD:PUBLISH
X-WR-CALNAME:Core LNGas hive
X-ORIGINAL-URL:http://corelngashive.eu/en/
X-WR-CALDESC:Events for Core LNGas hive
BEGIN:VEVENT
DTSTART;VALUE=DATE:20170622
DTEND;VALUE=DATE:20170622
DTSTAMP:20260423T072540
CREATED:20170522
LAST-MODIFIED:20190326
UID:6739-1498089600-1498175999@corelngashive.eu
SUMMARY:I Conference CORE LNGas hive Project\, Barcelona
DESCRIPTION:Agenda\n\nPress Release\n\nlink to PPT with speakers' presentations Click on the name of the speaker in order to see its presentation at the conference\, they are in original language Spanish or English.\n\nInauguration by Enagás Director General Claudio Rodriguez; President of Spanish Ports\, Jose Llorca and President of Barcelona Port\, Sixte Cambra.\n\n   \n\nHelmut Morsi from DG Move\, European Commision. Link to PPT TransEuropean Networks\n\n\n\nExperiment of Javier Ruesga from E4Efficiency
URL:http://corelngashive.eu/en/events/i-conferencia-del-proyecto-core-lngas-hive/?lang=es/feed/feed/feed/feed/feed/feed/
LOCATION:Antic Edifici de Remolcadors Moll de Llevant 1\, Barcelona\, 08039
CATEGORIES:Conferences
ATTACH;FMTTYPE=image/jpeg:http://corelngashive.eu/wp-content/uploads/2017/06/CR.jpg
END:VEVENT
END:VCALENDAR