BEGIN:VCALENDAR
VERSION:2.0
PRODID:-//Core LNGas hive - ECPv4.1.2//NONSGML v1.0//EN
CALSCALE:GREGORIAN
METHOD:PUBLISH
X-WR-CALNAME:Core LNGas hive
X-ORIGINAL-URL:http://corelngashive.eu/en/
X-WR-CALDESC:Events for Core LNGas hive
BEGIN:VEVENT
DTSTART;VALUE=DATE:20160316
DTEND;VALUE=DATE:20160317
DTSTAMP:20260425T104815
CREATED:20160309
LAST-MODIFIED:20160519
UID:4598-1458093600-1458179999@corelngashive.eu
SUMMARY:GAINN open conference “LNG as Marine Fuel: the Moment of Truth”
DESCRIPTION:\n\nThis conference will deal with issues related to the main barriers of the implementation of LNG as marine fuel\, the logistic costs associated with the LNG supply chain and the latest technical innovations in the market among others.
URL:http://corelngashive.eu/en/events/gainn-open-conference-lng-as-marine-fuel-the-moment-of-truth/?lang=es/feed/feed/feed/feed/feed/feed/feed/feed/feed/feed/feed/feed/
LOCATION:Valencia\, España
END:VEVENT
END:VCALENDAR