BEGIN:VCALENDAR
VERSION:2.0
PRODID:-//Core LNGas hive - ECPv4.1.2//NONSGML v1.0//EN
CALSCALE:GREGORIAN
METHOD:PUBLISH
X-WR-CALNAME:Core LNGas hive
X-ORIGINAL-URL:http://corelngashive.eu/en/
X-WR-CALDESC:Events for Core LNGas hive
BEGIN:VEVENT
DTSTART;VALUE=DATE:20161116
DTEND;VALUE=DATE:20161118
DTSTAMP:20260424T080731
CREATED:20160927
LAST-MODIFIED:20190506
UID:5391-1479261600-1479434399@corelngashive.eu
SUMMARY:5th Annual Small Scale LNG Forum
DESCRIPTION:5th Annual Small Scale LNG Forum\nFor the 5th year running the Small Scale LNG forum will bring together industry leaders deeply involved in small-scale LNG. This year's edition will offer perspectives on the development of LNG for ground freight applications in a sustained low oil price environment.\n\nMore info\n\nAgenda
URL:http://corelngashive.eu/en/events/5th-annual-small-scale-lng-forum/?lang=es/feed/feed/feed/feed/feed/
LOCATION:Holanda
CATEGORIES:Events
END:VEVENT
END:VCALENDAR