BEGIN:VCALENDAR
VERSION:2.0
PRODID:-//Core LNGas hive - ECPv4.1.2//NONSGML v1.0//EN
CALSCALE:GREGORIAN
METHOD:PUBLISH
X-WR-CALNAME:Core LNGas hive
X-ORIGINAL-URL:http://corelngashive.eu/en/
X-WR-CALDESC:Events for Core LNGas hive
BEGIN:VEVENT
DTSTART;VALUE=DATE:20170424
DTEND;VALUE=DATE:20170426
DTSTAMP:20260423T115239
CREATED:20160927
LAST-MODIFIED:20160927
UID:5385-1492999200-1493171999@corelngashive.eu
SUMMARY:2nd Annual International LNG Summit
DESCRIPTION:2nd Annual International LNG Summit\n\n24th 25th April\n\nBarcelona\n\nMore info:\n\nhttp://lngsummit.org\n\n 
URL:http://corelngashive.eu/en/events/2nd-annual-international-lng-summit/?lang=es/feed/feed/feed/
LOCATION:Barcelona\, EspaÃ±a
CATEGORIES:Events
END:VEVENT
END:VCALENDAR